BEGIN:VCALENDAR
VERSION:2.0
PRODID:-//wp-events-plugin.com//7.2.3.1//EN
TZID:Europe/Amsterdam
X-WR-TIMEZONE:Europe/Amsterdam
BEGIN:VEVENT
UID:10@ikbenvem.nl
DTSTART;TZID=Europe/Amsterdam:20231210T090000
DTEND;TZID=Europe/Amsterdam:20231210T170000
DTSTAMP:20230717T125417Z
URL:https://www.ikbenvem.nl/events/strategische-medezeggenschap-in-1-dag-d
 ecember/
SUMMARY:Strategische medezeggenschap in 1 dag
DESCRIPTION:[vc_row css_animation="" row_type="row" use_row_as_full_screen_
 section="no" type="full_width" angled_section="no" text_align="left" backg
 round_image_as_pattern="without_pattern"][vc_column width="2/3"][vc_column
 _text]Voor wie? Directie\, HR professionals\, bestuurssecretarissen\nWanne
 er? 10 december 2023\, 09.00-17.00 uur\nWaar? Op locatie van deelnemer\nIn
 vestering? € 2.320\, ex BTW\n\nSamenwerken met de OR zonder gedoe\, dat 
 is een wens van iedere Directeur / HR Businesspartner. Toch blijkt dit in 
 de praktijk niet zo eenvoudig. Verklaarbaar\, want de samenwerking is veel
 al gebaseerd op de traditionele pijlers uit de wet. Weliswaar passend bij 
 de tijdsgeest en de arbeidsverhoudingen van toen\, maar vooral ingericht a
 ls tegenmacht. Tegelijkertijd is de wereld om ons heen sindsdien ingrijpen
 d veranderd. Niet alleen is de thematiek waar organisaties vandaag de dag 
 mee te maken krijgen\, zoals duurzaamheid\, robotisering\, inclusiviteit\,
  anders dan die bij de invoering van de wet op de ondernemingsraden aan de
  orde was. Ook organisatiestructuren en -culturen zijn sterk veranderd. De
 nk maar aan organische veranderprocessen\, co-creatie\, zelfsturende teams
 \, nieuw leiderschap.\n\nDe huidige tijd vraagt daarmee echt iets anders v
 an organisaties en daarmee ook van de inrichting van\, en samenwerking met
 \, de OR. Namelijk: medezeggenschap op meer strategisch niveau.\n\nIn dit 
 dagprogramma op jouw eigen locatie krijg je als Directeur /HR businesspart
 ner samen met jouw eigen OR inzicht in de wat strategische medezeggenschap
  is en welke impact het kan hebben op jullie samenwerking. We maken gelijk
  de vertaalslag naar de praktijk\, zodat jullie met een blauwdruk aan de s
 lag kunnen gaan met een verdere samenwerking zonder gedoe!\n\nExtra\nBij h
 et dagprogramma is een online evaluatie inbegrepen. Deze vindt plaats onge
 veer 3 maanden na het dagprogramma.\n\nVoorafgaand\nOnline intake om te be
 palen of het dagprogramma geschikt is.\n\nOpbouw programma (09.00 uur - 17
 .00 uur)\n\n 	Inleiding\n 	Medezeggenschapscan\n\n 	Wat is de staat van de
  huidige samenwerking?\n 	Thematiek\, besluitvormingsprocessen en samenwer
 kingskaders\n\n\n 	Strategische medezeggenschap:\n\n 	Wat is het?!\n 	Hoe 
 zou strategische medezeggenschap er in de organisatie idealiter eruit zien
 ?\n 	Wat is daarvoor nodig?\n\n\n 	Blauwdruk naar een strategische medezeg
 genschap\n\nLET OP: dit is een dagprogramma waar slechts 1 organisatie per
  keer aan kan mee doen. Het dagprogramma vindt 1 keer per maand plaats.[/v
 c_column_text][vc_empty_space][/vc_column][vc_column width="1/3"][vc_colum
 n_text][activecampaign form=16 css=1][/vc_column_text][/vc_column][/vc_row
 ]
END:VEVENT
BEGIN:VTIMEZONE
TZID:Europe/Amsterdam
X-LIC-LOCATION:Europe/Amsterdam
BEGIN:STANDARD
DTSTART:20231029T020000
TZOFFSETFROM:+0200
TZOFFSETTO:+0100
TZNAME:CET
END:STANDARD
END:VTIMEZONE
END:VCALENDAR